Workbook

Sheet Financial Data
B2: Company Name: | C2: Hydrogenics Corporation
B3: Stock Ticker Symbol: | C3: HYGS
B4: U.S. Stock Exchange: | C4: NASAQ
B5: Statement Year-end Dates: | C5: 41639 | D5: 41274
B6: Financial Reports Rounded to: | C6: Thousands
B8: Supplemental Ratio Requirements: | C8: 2013 | D8: 2012
B9: Rent expense (in thousands): | C9: 845 | D9: 906
B10: Dividends per share:
B11: End of year stock price (adjusted for splits): | C11: 19.15 | D11: 6.77
B13: Check Figures:
B14: Balance Sheet
B15: Current Assets: | C15: 31649 | D15: 34607
B16: Total Assets: | C16: 40070 | D16: 41877
B17: Current Liabilities: | C17: 22528 | D17: 26054
B18: Total Stockholder's Equity: | C18: 6161 | D18: 4307
B20: Income Statement
B21: Gross Profit: | C21: 12061 | D21: 5249
B22: Operating Profit: | C22: -6783 | D22: -12225
B23: Net Profit: | C23: -8908 | D23: -12797
B25: Cash Flow
B26: Net Flows from Operations: | C26: -9197 | D26: -1163
B27: Net Flows from Investing Activity: | C27: -971 | D27: -400
B28: Net Flows from Financing Activity: | C28: 8669 | D28: 6491

Sheet Balance Sheet
B2: Hydrogenics Corporation (HYGS/NASDAQ)
B3: Annual Consolidated Balance Sheet
B4: Amounts Rounded to Thousands
B6: ASSETS: | C6: 41639 | D6: 41274 | E6: Variance
B7: Current Assets:
B8: Cash and cash equivalents | C8: 11823 | D8: 13020 | E8: =C8-D8 -> -1197 | F8: Unfavorable
B9: Short-term investments
B10: Total cash and short term investments | C10: =SUM(C8:C9) -> 11823 | D10: =SUM(D8:D9) -> 13020 | E10: =C10-D10 -> -1197 | F10: Unfavorable
B11: Accounts receivables, net | C11: 4725 | D11: 5024 | E11: =C11-D11 -> -299 | F11: Unfavorable
B12: Inventories, net | C12: 12821 | D12: 11848 | E12: =C12-D12 -> 973 | F12: Favorable
B13: Current deffered taxes
B14: Other current assets | C14: 2280 | D14: 4715 | E14: =C14-D14 -> -2435 | F14: Unfavorable
B15: Total current assets | C15: =SUM(C10:C14) -> 31649 | D15: =SUM(D10:D14) -> 34607 | E15: =C15-D15 -> -2958 | F15: Unfavorable
B17: Property, plant, and equipment | C17: 11888 | D17: 10769 | E17: =C17-D17 -> 1119 | F17: Favorable
B18: Less: accumulated depreciation | C18: 10204 | D18: 9370 | E18: =C18-D18 -> 834 | F18: Unfavorable
B19: Net property, plant, and equipment | C19: =C17-C18 -> 1684 | D19: =D17-D18 -> 1399 | E19: =C19-D19 -> 285 | F19: Favorable
B21: Long-term investments:
B22: Goodwill, net | C22: 5248 | D22: 5021 | E22: =C22-D22 -> 227 | F22: Favorable
B23: Other intangibles, net | C23: 100 | D23: 107 | E23: =C23-D23 -> -7 | F23: Unfavorable
B24: Other deferred taxes
B25: Other assets | C25: 1389 | D25: 743 | E25: =C25-D25 -> 646 | F25: Favorable
B26: Total assets | C26: =C15+C19+SUM(C22:C25) -> 40070 | D26: =D15+D19+SUM(D22:D25) -> 41877 | E26: =C26-D26 -> -1807
B28: LIABILITIES
B29: Current Liabilities:
B30: Accounts payable | C30: 3115 | D30: 5285 | E30: =C30-D30 -> -2170 | F30: Favorable
B31: Short-term debt
B32: Current portion of long-term debt
B33: Accrued liabilities | C33: 5556 | D33: 3162 | E33: =C33-D33 -> 2394 | F33: Unfavorable
B34: Income taxes payable
B35: Other current liabilities | C35: 13857 | D35: 17607 | E35: =C35-D35 -> -3750 | F35: Favorable
B36: Total current liabilities | C36: =SUM(C30:C35) -> 22528 | D36: =SUM(D30:D35) -> 26054 | E36: =C36-D36 -> -3526 | F36: Favorable
B38: Long-term debt | C38: 2260 | D38: 1288 | E38: =C38-D38 -> 972 | F38: Unfavorable
B39: Deferred income taxes payable
B40: Other deferred liabilities | C40: 7305 | D40: 8576 | E40: =C40-D40 -> -1271 | F40: Favorable
B41: Other liabilities | C41: 1816 | D41: 1652 | E41: =C41-D41 -> 164 | F41: Unfavorable
B42: Total liabilities | C42: =C36+SUM(C38:C41) -> 33909 | D42: =D36+SUM(D38:D41) -> 37570 | E42: =C42-D42 -> -3661 | F42: Favorable
B44: STOCKHOLDERS' EQUITY
B45: Preffered stock | C45: 351761 | D45: 341508 | E45: =C45-D45 -> 10253 | F45: Unfavorable
B46: Retained earnings (accumulated deficit) | C46: -345351 | D46: -336443 | E46: =C46-D46 -> -8908 | F46: Unfavorable
B47: Treasury stock
...

Sheet Ratios
B2: Type | C2: Ratios | D2: 2013 | E2: 2012 | F2: Variance
B3: Profitability | C3: Return on Assets | D3: ='Financial Data'!C23/'Financial Data'!C16 -> -0.22231096 | E3: ='Financial Data'!D23/'Financial Data'!D16 -> -0.3055854 | F3: =D3-E3 -> 0.083274449 | G3: Favorable
C4: Return on Equity | D4: ='Financial Data'!C23/'Financial Data'!C18 -> -1.4458692 | E4: ='Financial Data'!D23/'Financial Data'!D18 -> -2.9712097 | F4: =D4-E4 -> 1.5253405 | G4: Favorable
B5: Debt | C5: Debt Ratio | D5: ='Balance Sheet'!C42/'Balance Sheet'!C26 -> 0.84624407 | E5: ='Balance Sheet'!D42/'Balance Sheet'!D26 -> 0.89715118 | F5: =D5-E5 -> -0.050907108 | G5: Favorable
C6: Debt to Equity Ratio | D6: ='Balance Sheet'!C38/'Balance Sheet'!C50 -> 0.36682357 | E6: ='Balance Sheet'!D38/'Balance Sheet'!D50 -> 0.29904806 | F6: =D6-E6 -> 0.067775506 | G6: Unfavorable
B7: Liquidity | C7: Current Ratio | D7: ='Financial Data'!C15/'Financial Data'!C17 -> 1.4048739 | E7: ='Financial Data'!D15/'Financial Data'!D17 -> 1.3282797 | F7: =D7-E7 -> 0.076594208 | G7: Favorable
C8: Quick Ratio | D8: =('Financial Data'!C15-'Balance Sheet'!C12)/'Financial Data'!C17 -> 0.83575994 | E8: =('Financial Data'!D15-'Balance Sheet'!D12)/'Financial Data'!D17 -> 0.8735319 | F8: =D8-E8 -> -0.037771952 | G8: Unfavorable
